BEGIN:VCALENDAR
VERSION:2.0
PRODID:-//Movement Coordination Centre Europe - ECPv6.15.20//NONSGML v1.0//EN
CALSCALE:GREGORIAN
METHOD:PUBLISH
X-WR-CALNAME:Movement Coordination Centre Europe
X-ORIGINAL-URL:https://mcce-mil.org
X-WR-CALDESC:Events for Movement Coordination Centre Europe
REFRESH-INTERVAL;VALUE=DURATION:PT1H
X-Robots-Tag:noindex
X-PUBLISHED-TTL:PT1H
BEGIN:VTIMEZONE
TZID:Europe/Amsterdam
BEGIN:DAYLIGHT
TZOFFSETFROM:+0100
TZOFFSETTO:+0200
TZNAME:CEST
DTSTART:20250330T010000
END:DAYLIGHT
BEGIN:STANDARD
TZOFFSETFROM:+0200
TZOFFSETTO:+0100
TZNAME:CET
DTSTART:20251026T010000
END:STANDARD
BEGIN:DAYLIGHT
TZOFFSETFROM:+0100
TZOFFSETTO:+0200
TZNAME:CEST
DTSTART:20260329T010000
END:DAYLIGHT
BEGIN:STANDARD
TZOFFSETFROM:+0200
TZOFFSETTO:+0100
TZNAME:CET
DTSTART:20261025T010000
END:STANDARD
BEGIN:DAYLIGHT
TZOFFSETFROM:+0100
TZOFFSETTO:+0200
TZNAME:CEST
DTSTART:20270328T010000
END:DAYLIGHT
BEGIN:STANDARD
TZOFFSETFROM:+0200
TZOFFSETTO:+0100
TZNAME:CET
DTSTART:20271031T010000
END:STANDARD
END:VTIMEZONE
BEGIN:VEVENT
DTSTART;VALUE=DATE:20260413
DTEND;VALUE=DATE:20260416
DTSTAMP:20260421T222613
CREATED:20260213T080011Z
LAST-MODIFIED:20260227T090119Z
UID:4836-1776038400-1776297599@mcce-mil.org
SUMMARY:37th MCCE WB / MSSC Meeting - 13 - 15 Apr\, Bydgoszcz\, POL
DESCRIPTION:Dear Ladies and Gentlemen\, \nOn behalf of the host nation\, Poland\, you are kindly invited to the combined 37th MCCE WB and 53rd MSSC Meeting in Bydgoszcz\, Poland  13 – 15 Apr 2026 \nThe 37rd MCCE WB will take place on the 13 – 14th 2026. \nThe 53rdMSSC meeting will take place on the 15 April 2026. \nRegistration \nPlease be kindly informed\, that the meeting registration must be completed NLT 6 April 2026.  \nFor the host nation to plan appropriately\, you will be asked to provide certain information during the registration process. \nPlease be aware that to organise the meetings this website is used jointly. Therefore\, please register for the respective meeting/meetings by using the Event Manager system via the following link Registration. During the registration you will be asked to select in which meeting/meetings you would like to participate\, please select all that you are participating in. \nRegistration Link for all Meetings\nMeeting venue \nThe meetings will be held at the following venue: \nQubus Hotel Bydgoszcz\nul.Grodzka 36\n85-109 Bydgoszcz\, PL\nAccommodations \n\nHotel reservation is your individual responsibility. \nSuggested hotel is also the meeting venue above. \nHotel Booking Link : Qubus Hotel Bydgoszcz\n\nAgenda \nPlease kindly note that the respective meeting agendas are only drafts and will be e-mailed to participants. \nAdmin \nTo organise the meetings\, the Event Manager system will be used. \nAlso\, this website will be updated on a regular basis as additional details will become available. We kindly ask you to consult the meeting website or contact us if in need of further assistance. \n\nConference fees \nWe kindly inform you that separate conference fees apply for each meeting. \nThe conference fee is 70€  and will be charged in cash. For your convenience\, an invoice will be provided. \nTransportation \nTransportation to Bydgoszcz\, Poland as well as to and from the hotel to the airport is your individual responsibility. \nDress Code \nMeetings: Business \nIcebreakers: Smart Casual \nSocial events: Smart Casual \n  \n  \n  \nBest regards\, \nMovement Coordination Centre Europe \nEindhoven Airbase \nP.O.Box  90102 \n5600 RA Eindhoven \nThe Netherlands \n  \n  \n  \n 
URL:https://mcce-mil.org/event/37th-mcce-wb-mssc-meeting-13-15-apr-bydgoszcz-pol/
LOCATION:Qubus Hotel Bydoszcz\, ul.Grodzka 36\, Bydgoszcz\, 85-109\, Poland
CATEGORIES:Conference
ATTACH;FMTTYPE=image/webp:https://mcce-mil.org/wp-content/uploads/2026/04/Bydgoszcz.webp
ORGANIZER;CN="MCCE XO":MAILTO:xo@mcce-mil.com
END:VEVENT
BEGIN:VEVENT
DTSTART;TZID=Europe/Amsterdam:20260413T080000
DTEND;TZID=Europe/Amsterdam:20260424T120000
DTSTAMP:20260421T222613
CREATED:20250702T081746Z
LAST-MODIFIED:20260402T102615Z
UID:3435-1776067200-1777032000@mcce-mil.org
SUMMARY:MCCE LOGFAS ADAMS course for Exercise Connected Logistician-26
DESCRIPTION:The MCCE LOGFAS Strategic Deployment & Movement Planning (ADAMS) course \nfor Exercise Connected Logistician – 26\nfrom 13 April to 24 April 2026 \nin Eindhoven\nLadies and Gentlemen\,\nBackground \nThe LOGFAS Strategic Deployment and Movement Planning (ADAMS) course for Exercise CoLo26 will take place in Eindhoven (Military AirBase Barrack) from 13 April to  24 April 2026. \nThe Movement Coordination Centre Europe (MCCE)\, Eindhoven\, Netherlands is organizing LOGFAS Strategic Deployment and Movement Planning Functional System Training. The course attendees will receive a NATO certificate for the LOG-LG-36824 LOGFAS Strategic Deployment and Movement Planning Operator (ADAMS Operator) certification as this is part of this course. \nDescription:\nInformation is the key to any modern coalition operation. Therefore there is a clear requirement to provide coherent\, useful information to logistic planners on available logistic capability in a multi-national environment. Operators at NCS/NFS as well as in nations are required to be able to manage logistics information by using LOGFAS suite of tools. \nAim: \nThe course is designed to teach the required skills to capable to analyse Detailed Deployment Plan/Detailed Redeployment Plan (DDP/DRP) using ADAMS module of LOGFAS with details and information on how this data can be applied for the Analysis and Planning of Movements and Transportation using the functionality provided by the LOGFAS ADAMS Module. The Course is NATO certified and will meet all Requirements written in ETOC Course description ETOC LOG-LG-36824. \nThe purpose of the course is to provide military and civilian personnel at NATO\, NATO Nation\, Partner Nations and Organisations Headquarters with fundamental knowledge of LOGFAS system a way how to monitor and/or control the movements flow\, prioritise and deconflict the flow of the forces to\, in and out the theatre and to pass the information to all interested parties. \nProgramme for LOGFAS ADAMS course \nVenue of the event: \nThe Course will be held at the following location: \nName: Military Airbase Eindhoven\, MCCE\nAddress: Flight Forum\nPostcode: 5600 RA\nLocation: Eindhoven\nCountry: The Netherlands \nBuilding No: 551 \nClass Room: Amsterdam \nAttendance: \nYou can sign up via Conference Manager using via the following: SIGN UP LINK \nPlease be kindly informed\, that the registration must be completed no later than 13 March 2026. \nFor the host nation to plan appropriately\, you will be asked to provide certain information during the registration process. \nAccommodation \nThe MCCE recommends the following accomodations for participants: \nSandton Eindhoven Centre\, \nStratumsedijk 23D\,\n5611 NA Eindhoven\nTel.:     +31 40 212 13 30 \nIn the Sandton Eindhoven Centre\, we have created the block reservation with the following condition: \nThe rate that is applied is €128 per room\, per night\, excluding breakfast. And €144 per room\, per night\, including breakfast. \nThe rates have been increased in 2026 due to tax increase. \nBooking code: MCCE/LOGFAS-ADAMSCOLO \nBooking Link: BOOKING   Until: \n3BE Back Packers Bed & Breakfast Eindhoven\,\nStratumsedijk 31\,\n5611 NA Eindhoven\nTel.:     +31 40 212 04 16 \nPark Plaza Eindhoven\,\nGelddropseweg 17\,\n5611 SC Eindhoven\nTel.:     +31 40 214 65 00 \nWinston Bistro Bar Bed & Breakfast Eindhoven\,\nStratumseind 93\,\n5611 ER Eindhoven\nTel.:     +31 40 209 79 79 \nTransportation: \nThe PICK UP point will be at Sandton Eindhoven Centre parking lot. The MCCE will organize the transport for students to the Air Base and back. The bus will leave from the hotel parking lot 07:30 every morning and come back at the end of the day. \nAccording to the regulations of the Dutch army\, the bus will not run if less than 10 people register for it. In this case\, please help each other with the journey. Or take bus No. 400 to the Airport. The bus leaves from the Central Railway Station to the Airport and approx. 10 minutes walk to the Airbase. \nBUS Schedule No. 400 \nTransportation to and from Eindhoven\, The Netherlands\, as well as to and from the hotel to the airport is your individual responsibility. \nDress Code: \nMilitary uniform for military personnel (BDU)\, jacket and tie for civilian participants. \nNote:  \nDue to the large number of applicants\, it is necessary to limit the number of participants from one nation to a maximum of 3 PAX. \nThere are only 15 seats for the course\, so we will have to refuse registrations after the 15 spots are filled\, unfortunately. \nThe course takes place in a barracks managed by the Dutch Army\, so we will send an e-mail to those who successfully apply for the course\, at a later date to request personal information in order to access the barracks. \nIdentification: \nAll attendees have to carry national passports or IDs. \nNote:  \nThe course takes place in a barracks managed by the Dutch Army\, so we will send an e-mail to those who successfully apply for the course\, at a later date to request personal information in order to access the barracks. \nClassification: \nOverall classification is NATO/PfP UNCLASSIFIED. \nLanguage: \nTraining will be conducted in English; in accordance with NATO STANAG SLP 6001\, a minimum level of 2222 is required. \nBest Regards\, \nMCCE P&P Cell \nTel.:     +31 40 206 6073\nEmail: plans@mcce-mil.com \nEindhoven Airbase\nP.O.Box  90102\n5600 RA Eindhoven \n \n 
URL:https://mcce-mil.org/event/mcce-logfas-adams-course-for-ex-colo26/
LOCATION:Oirschot\, Eindhovensedijk 42\, Oirschot\, 5688GN\, Netherlands
CATEGORIES:course
ATTACH;FMTTYPE=image/jpeg:https://mcce-mil.org/wp-content/uploads/2025/07/MLCCMCCE-LOGO.jpg
ORGANIZER;CN="MCCE Projects & Planning Cell":MAILTO:plans@mcce-mil.com
END:VEVENT
END:VCALENDAR