BEGIN:VCALENDAR
VERSION:2.0
PRODID:-//Movement Coordination Centre Europe - ECPv6.15.20//NONSGML v1.0//EN
CALSCALE:GREGORIAN
METHOD:PUBLISH
X-WR-CALNAME:Movement Coordination Centre Europe
X-ORIGINAL-URL:https://mcce-mil.org
X-WR-CALDESC:Events for Movement Coordination Centre Europe
REFRESH-INTERVAL;VALUE=DURATION:PT1H
X-Robots-Tag:noindex
X-PUBLISHED-TTL:PT1H
BEGIN:VTIMEZONE
TZID:Europe/Amsterdam
BEGIN:DAYLIGHT
TZOFFSETFROM:+0100
TZOFFSETTO:+0200
TZNAME:CEST
DTSTART:20250330T010000
END:DAYLIGHT
BEGIN:STANDARD
TZOFFSETFROM:+0200
TZOFFSETTO:+0100
TZNAME:CET
DTSTART:20251026T010000
END:STANDARD
BEGIN:DAYLIGHT
TZOFFSETFROM:+0100
TZOFFSETTO:+0200
TZNAME:CEST
DTSTART:20260329T010000
END:DAYLIGHT
BEGIN:STANDARD
TZOFFSETFROM:+0200
TZOFFSETTO:+0100
TZNAME:CET
DTSTART:20261025T010000
END:STANDARD
BEGIN:DAYLIGHT
TZOFFSETFROM:+0100
TZOFFSETTO:+0200
TZNAME:CEST
DTSTART:20270328T010000
END:DAYLIGHT
BEGIN:STANDARD
TZOFFSETFROM:+0200
TZOFFSETTO:+0100
TZNAME:CET
DTSTART:20271031T010000
END:STANDARD
END:VTIMEZONE
BEGIN:VEVENT
DTSTART;TZID=Europe/Amsterdam:20260427T080000
DTEND;TZID=Europe/Amsterdam:20260501T120000
DTSTAMP:20260422T031642
CREATED:20260203T111932Z
LAST-MODIFIED:20260416T071924Z
UID:4733-1777276800-1777636800@mcce-mil.org
SUMMARY:1st MCCE LOGFAS CORSOM course for Ex CoLo26
DESCRIPTION:The 1st  MCCE LOGFAS Operational Movement Planning (CORSOM) course \nfor Exercise Connected Logistician – 2026 (Ex CoLo26)\nin Eindhoven from 27 Apr to 01 May 2026\nLadies and Gentlemen\,\nBackground \nThe 1st LOGFAS Operational Movement Planning (CORSOM) course for Exercise Connected Logistician 2026 (Ex CoLo26) will take place in Eindhoven (Military AirBase Barrack) from 27 Apr to  01 May 2026. \nThe Movement Coordination Centre Europe (MCCE)\, Eindhoven\, Netherlands is organizing LOGFAS Operational Movement Planning (CORSOM Operator) Functional System course. The course attendees will receive a NATO certification about the LOG-LG-26825 LOGFAS Operational Movement Planning Operator training (CORSOM Operator) as this is part of this course. \nThe course will take for 5 days. \nDescription:\nInformation is the key to any modern coalition operation. Therefore there is a clear requirement to provide coherent\, useful information to logistic planners on available logistic capability in a multi-national environment. Operators at NCS/NFS as well as in nations are required to be able to manage logistics information by using LOGFAS suite of tools. \nAim: \nThe course is designed to teach the required skills to capable to analyze Detailed Deployment Plan/Detailed Redepolyment Plan (DDP/DRP) using CORSOM module of LOGFAS with details and information on how this data can be applied for the Analysis and Planning of Movements and Transportation using the functionality provided by the LOGFAS CORSOM Module. The Course is NATO certified and will meet all Requirements written in ETOC Course description ETOC LOG-LG-26825. \nThe purpose of the course is to provide military and civilian personnel at NATO\, NATO Nation\, Partner Nations and Organisations Headquarters with fundamental knowledge of LOGFAS system a way how to monitor and/or control the movements flow\, prioritise and deconflict the flow of the forces to\, in and out the theatre and to pass the information to all interested parties. \nProgramme for LOGFAS CORSOM course \nVenue of the event: \nThe Course will be held at the following location: \nName: Military Airbase Eindhoven\, MCCE\nAddress: Flight Forum\nPostcode: 5600 RA\nLocation: Eindhoven\nCountry: The Netherlands \nBuilding No: 551 \nClass Room: Amsterdam \nAttendance: \nYou can sign up via Conference Manager using via the following: SIGN UP CLOSED the course is full \nPlease be kindly informed\, that the registration must be completed no later than 27 March 2026. \nFor the host nation to plan appropriately\, you will be asked to provide certain information during the registration process. \nAccommodation: \nThe MCCE recommends the following accommodations for participants: \nSandton Eindhoven Centre\, \nStratumsedijk 23D\,\n5611 NA Eindhoven\nTel.:     +31 40 212 13 30 \n3BE Back Packers Bed & Breakfast Eindhoven\,\nStratumsedijk 31\,\n5611 NA Eindhoven\nTel.:     +31 40 212 04 16 \nPark Plaza Eindhoven\,\nGelddropseweg 17\,\n5611 SC Eindhoven\nTel.:     +31 40 214 65 00 \nWinston Bistro Bar Bed & Breakfast Eindhoven\,\nStratumseind 93\,\n5611 ER Eindhoven\nTel.:     +31 40 209 79 79 \nTransportation: \nThe PICK UP point will be at Sandton Eindhoven Centre parking lot. The MCCE will organize the transport for students to the Air Base and back. The bus will leave from the hotel parking lot 07:30 every morning and come back at the end of the day. \nAccording to the regulations of the Dutch army\, the bus will not run if less than 10 people register for it. In this case\, please help each other with the journey. Or take bus No. 400 to the Airport. The bus leaves from the Central Railway Station to the Airport and approx. 10 minutes walk to the Airbase. \nBUS Schedule No. 400 \nTransportation to and from Eindhoven\, The Netherlands\, as well as to and from the hotel to the airport is your individual responsibility. \nDress Code: \nMilitary uniform for military personnel (BDU)\, jacket and tie for civilian participants. \nNote:  \nDue to the large number of applicants\, it is necessary to limit the number of participants from one nation to a maximum of 3 PAX. \nThere are ony 15 seats for the course\, so we will have to refuse registrations after the 15 spots are filled\, unfortunately. \nThe course takes place in a barracks managed by the Dutch Army\, so we will send an e-mail to those who successfully apply for the course\, at a later date to request personal information in order to access the barracks. \nIdentification: \nAll attendees have to carry national passports or IDs. \nNote:  \nThe course takes place in a barracks managed by the Dutch Army\, so we will send an e-mail to those who successfully apply for the course\, at a later date to request personal information in order to access the barracks. \nClassification: \nOverall classification is NATO/PfP UNCLASSIFIED. \nLanguage: \nTraining will be conducted in English; in accordance with NATO STANAG SLP 6001\, a minimum level of 2222 is required. \nBest Regards\, \nMCCE P&P Cell \nTel.:     +31 40 206 6073\nEmail: plans@mcce-mil.com \nEindhoven Airbase\nP.O.Box  90102\n5600 RA Eindhoven \n \n 
URL:https://mcce-mil.org/event/1st-mcce-logfas-corsom-course-for-ex-colo26/
LOCATION:Oirschot\, Eindhovensedijk 42\, Oirschot\, 5688GN\, Netherlands
CATEGORIES:course
ATTACH;FMTTYPE=image/jpeg:https://mcce-mil.org/wp-content/uploads/2025/07/MLCCMCCE-LOGO-1.jpg
ORGANIZER;CN="MCCE Projects & Planning Cell":MAILTO:plans@mcce-mil.com
END:VEVENT
BEGIN:VEVENT
DTSTART;TZID=Europe/Amsterdam:20260504T080000
DTEND;TZID=Europe/Amsterdam:20260508T120000
DTSTAMP:20260422T031642
CREATED:20250725T133329Z
LAST-MODIFIED:20260409T194251Z
UID:3443-1777881600-1778241600@mcce-mil.org
SUMMARY:2nd MCCE LOGFAS CORSOM course for Ex CoLo26
DESCRIPTION:The 2nd MCCE LOGFAS Operational Movement Planning (CORSOM) course\nfor Exercise Connected Logistician – 2026 (Ex CoLo26)\nin Eindhoven from 04 May to 08 May 2026\nLadies and Gentlemen\,\nBackground \nThe 2nd LOGFAS Operational Movement Planning (CORSOM) course for Exercise Connected Logistician 2026 (Ex CoLo26) will take place in Eindhoven (AirBase Barrack) from 04 May to  08 May 2026. \nThe Movement Coordination Centre Europe (MCCE)\, Eindhoven\, Netherlands is organizing LOGFAS Operational Movement Planning (CORSOM Operator) Functional System course. The course attendees will receive a NATO certification about the LOG-LG-26825 LOGFAS Operational Movement Planning Operator training (CORSOM Operator) as this is part of this course. \nThe course will take for 5 days. \nDescription:\nInformation is the key to any modern coalition operation. Therefore there is a clear requirement to provide coherent\, useful information to logistic planners on available logistic capability in a multi-national environment. Operators at NCS/NFS as well as in nations are required to be able to manage logistics information by using LOGFAS suite of tools. \nAim: \nThe course is designed to teach the required skills to capable to analyze Detailed Deployment Plan/Detailed Redepolyment Plan (DDP/DRP) using CORSOM module of LOGFAS with details and information on how this data can be applied for the Analysis and Planning of Movements and Transportation using the functionality provided by the LOGFAS CORSOM Module. The Course is NATO certified and will meet all Requirements written in ETOC Course description ETOC LOG-LG-26825. \nThe purpose of the course is to provide military and civilian personnel at NATO\, NATO Nation\, Partner Nations and Organisations Headquarters with fundamental knowledge of LOGFAS system a way how to monitor and/or control the movements flow\, prioritise and deconflict the flow of the forces to\, in and out the theatre and to pass the information to all interested parties. \nProgramme for LOGFAS CORSOM course \nVenue of the event: \nThe Course will be held at the following location: \nName: Military Airbase Eindhoven\, MCCE\nAddress: Flight Forum\nPostcode: 5600 RA\nLocation: Eindhoven\nCountry: The Netherlands \nBuilding No: 551 \nClass Room: Amsterdam \nAttendance: \nYou can sign up via Conference Manager using via the following: SIGN IN \nPlease be kindly informed\, that the registration must be completed no later than 03 May 2026. \nFor the host nation to plan appropriately\, you will be asked to provide certain information during the registration process. \nAccommodation: \nThe MCCE recommends the following accomodations for participants: \nSandton Eindhoven Centre\, \nStratumsedijk 23D\,\n5611 NA Eindhoven\nTel.:     +31 40 212 13 30 \nIn the Sandton Eindhoven Centre\, we have created the block reservation with the following condition: \nThe rate that is applied is €128 per room\, per night\, excluding breakfast. And €144 per room\, per night\, including breakfast. \nThe rates have been increased in 2026 due to tax increase. \nBooking code: MCCE/LOGFAS-CORSOMCOURSE \nBooking Link: BOOKING   Until: 20th April 2026. \n3BE Back Packers Bed & Breakfast Eindhoven\,\nStratumsedijk 31\,\n5611 NA Eindhoven\nTel.:     +31 40 212 04 16 \nPark Plaza Eindhoven\,\nGelddropseweg 17\,\n5611 SC Eindhoven\nTel.:     +31 40 214 65 00 \nWinston Bistro Bar Bed & Breakfast Eindhoven\,\nStratumseind 93\,\n5611 ER Eindhoven\nTel.:     +31 40 209 79 79 \nTransportation: \nThe PICK UP point will be at Sandton Eindhoven Centre parking lot. The MCCE will organize the transport for students to the Air Base and back. The bus will leave from the hotel parking lot 07:30 every morning and come back at the end of the day. \nAccording to the regulations of the Dutch army\, the bus will not run if less than 10 people register for it. In this case\, please help each other with the journey. Or take bus No. 400 to the Airport. The bus leaves from the Central Railway Station to the Airport and approx. 10 minutes walk to the Airbase. \nBUS Schedule No. 400 \nTransportation to and from Eindhoven\, The Netherlands\, as well as to and from the hotel to the airport is your individual responsibility. \nDress Code: \nMilitary uniform for military personnel (BDU)\, jacket and tie for civilian participants. \nNote:  \nDue to the large number of applicants\, it is necessary to limit the number of participants from one nation to a maximum of 3 PAX. \nThere are ony 15 seats for the course\, so we will have to refuse registrations after the 15 spots are filled\, unfortunately. \nThe course takes place in a barracks managed by the Dutch Army\, so we will send an e-mail to those who successfully apply for the course\, at a later date to request personal information in order to access the barracks. \nIdentification: \nAll attendees have to carry national passports or IDs. \nNote:  \nThe course takes place in a barracks managed by the Dutch Army\, so we will send an e-mail to those who successfully apply for the course\, at a later date to request personal information in order to access the barracks. \nClassification: \nOverall classification is NATO/PfP UNCLASSIFIED. \nLanguage: \nTraining will be conducted in English; in accordance with NATO STANAG SLP 6001\, a minimum level of 2222 is required. \nBest Regards\, \nMCCE P&P Cell \nTel.:     +31 40 206 6073\nEmail: plans@mcce-mil.com \nEindhoven Airbase\nP.O.Box  90102\n5600 RA Eindhoven \n \n 
URL:https://mcce-mil.org/event/mcce-logfas-corsom-course-for-ex-colo26/
LOCATION:Oirschot\, Eindhovensedijk 42\, Oirschot\, 5688GN\, Netherlands
CATEGORIES:course
ATTACH;FMTTYPE=image/jpeg:https://mcce-mil.org/wp-content/uploads/2025/07/MLCCMCCE-LOGO-1.jpg
ORGANIZER;CN="MCCE Projects & Planning Cell":MAILTO:plans@mcce-mil.com
END:VEVENT
BEGIN:VEVENT
DTSTART;TZID=Europe/Amsterdam:20260506T080000
DTEND;TZID=Europe/Amsterdam:20260515T103000
DTSTAMP:20260422T031642
CREATED:20260408T075413Z
LAST-MODIFIED:20260408T100757Z
UID:5195-1778054400-1778841000@mcce-mil.org
SUMMARY:MCCE 13th LOGFAS Fundamentals course
DESCRIPTION:The 13th MCCE LOGFAS Fundamentals &\nData Operator (FDO) course\nin Eindhoven from 06 – 15 May 2026\nLadies and Gentlemen\,\nBackground \nThe 13th LOGFAS Fundamentals and Data Operator (MCCE LOGFAS FDO) course will take place in Eindhoven (Military Airbase Barrack) on 06 – 15 May 2026. \nThe Movement Coordination Centre Europe (MCCE)\, Eindhoven\, Netherlands is organizing LOGFAS Fundamentals and Data Operator Course (LOGFAS FDO). The course attendees will receive a NATO certificate for the LOG-LG-26827 LOGFAS Fundamentals and Data Operator (LOGFAS FDO) as this is part of this course. \nDescription:\nInformation is the key to any modern coalition operation. Therefore\, there is a clear requirement to provide coherent\, useful information to logistic planners on available logistic capability in a multi-national environment. Operators at NCS/NFS as well as in nations are required to be able to manage logistics information by using LOGFAS suite of tools. \nAim: \nThe purpose of the course is to provide military and civilian personnel at NATO\, NATO Nation\, Partner Nations and Organisations Headquarters with fundamental knowledge of LOGFAS system with a focus on LOGFAS fundamentals and basic data operations. \nThe Training Audience (TA) will be able to use the Logistic Functional Area Services (LOGFAS) software modules (LCM – LOGFAS Connection Manager\, LDM – LOGFAS Data Management Module\, GEOMAN – Geographical Manager Module) at the general level\, in order to support the management of logistic information. \nThe Course will be NATO certified and will meet all Requirements written in ETOC Course description ETOC LOG-LG-26827. \nProgramme of LOGFAS Fundamentals course \nVenue of the event: \nThe Course will be held at the following location: \nName: Military Airbase Eindhoven\, MCCE\nAddress: Flight Forum\nPostcode: 5600 RA\nLocation: Eindhoven\nCountry: The Netherlands \nBuilding No: 551 \nClass Room: Amsterdam \nCourse main objectives: \n\nThe purpose of the course is to provide military and civilian personnel at NATO\, NATO Nation\, Partner Nations and Organisations Headquarters with fundamental knowledge of LOGFAS system with focus on LOGFAS fundamentals and basic data operations.\n\n\nThe Training Audience (TA) will be able to use the Logistic Functional Area Services (LOGFAS) software modules (LCM – LOGFAS Connection Manager\, LDM – LOGFAS Data Management Module\, GEOMAN – Geographical Manager Module) at the general level\, in order to support the management of logistic information.\n\nAttendance: \nYou can sign up via Conference Manager using via the following: SIGN IN \nPlease be kindly informed\, that the registration must be completed no later than 30 April 2026. \nFor the host nation to plan appropriately\, you will be asked to provide certain information during the registration process. \nAccommodation: \nThe MCCE recommends the following accommodations for participants: \nSandton Eindhoven Centre\, \nStratumsedijk 23D\,\n5611 NA Eindhoven\nTel.:     +31 40 212 13 30 \n3BE Back Packers Bed & Breakfast Eindhoven\,\nStratumsedijk 31\,\n5611 NA Eindhoven\nTel.:     +31 40 212 04 16 \nPark Plaza Eindhoven\,\nGelddropseweg 17\,\n5611 SC Eindhoven\nTel.:     +31 40 214 65 00 \nWinston Bistro Bar Bed & Breakfast Eindhoven\,\nStratumseind 93\,\n5611 ER Eindhoven\nTel.:     +31 40 209 79 79 \nTransportation: \nThe PICK UP point will be at Sandton Eindhoven Centre parking lot. The MCCE will organize the transport for students to the Air Base and back. The bus will leave from the hotel parking lot 07:30 every morning and come back at the end of the day. \nAccording to the regulations of the Dutch army\, the bus will not run if less than 10 people register for it. In this case\, please help each other with the journey. Or take bus No. 400 to the Airport. The bus leaves from the Central Railway Station to the Airport and approx. 10 minutes walk to the Airbase. \nBUS Schedule No. 4001 \nTransportation to and from Eindhoven\, The Netherlands\, as well as to and from the hotel to the airport is your individual responsibility. \nDress Code: \nMilitary uniform for military personnel (BDU)\, jacket and tie for civilian participants. \nNote:  \nDue to the large number of applicants\, it is necessary to limit the number of participants from one nation to a maximum of 3 PAX. \nThere are ony 15 seats for the course\, so we will have to refuse registrations after the 15 spots are filled\, unfortunately. \nThe course takes place in a barracks managed by the Dutch Army\, so we will send an e-mail to those who successfully apply for the course\, at a later date to request personal information in order to access the barracks. \nIdentification: \nAll attendees have to carry national passports or IDs. \nNote:  \nThe course takes place in a barracks managed by the Dutch Army\, so we will send an e-mail to those who successfully apply for the course\, at a later date to request personal information in order to access the barracks. \nClassification: \nOverall classification is NATO/PfP UNCLASSIFIED. \nLanguage: \nTraining will be conducted in English; in accordance with NATO STANAG SLP 6001\, a minimum level of 2222 is required. \nBest Regards\, \nMCCE P&P Cell \nTel.:     +31 40 206 6073\nEmail: plans@mcce-mil.com \nEindhoven Airbase\nP.O.Box  90102\n5600 RA Eindhoven \n \n 
URL:https://mcce-mil.org/event/mcce-13th-logfas-fdo-course/
LOCATION:MCCE\, Flight Forum 1550\, Eindhoven\, Military Airbase\, 5600 RA\, Netherlands
CATEGORIES:course
ATTACH;FMTTYPE=image/jpeg:https://mcce-mil.org/wp-content/uploads/2025/05/Screenshot-2025-05-08-132820.jpg
ORGANIZER;CN="MCCE Projects & Planning Cell":MAILTO:plans@mcce-mil.com
END:VEVENT
BEGIN:VEVENT
DTSTART;TZID=Europe/Amsterdam:20260519T080000
DTEND;TZID=Europe/Amsterdam:20260529T120000
DTSTAMP:20260422T031642
CREATED:20250826T133741Z
LAST-MODIFIED:20260408T120438Z
UID:3448-1779177600-1780056000@mcce-mil.org
SUMMARY:MCCE LOGFAS EVE course for Ex CoLo26
DESCRIPTION:The MCCE LOGFAS Movement Execution & Coordination (EVE) course \nfor Exercise Connected Logistician – 2026 (Ex CoLo26)\nfrom 19 May to 28 May 2026 in Eindhoven\n  \nLadies and Gentlemen\,\nBackground \nThe MCCE LOGFAS Movement Execution & Coordination (EVE) course for Exercise Connected Logistician – 2026 (Ex CoLo26) will take place in Eindhoven (AirBase Barrack) from 19 May to  28 May 2026. \nThe Movement Coordination Centre Europe (MCCE)\, Eindhoven\, Netherlands is organizing LOGFAS Movement Execution and Coordination course. The course attendees will receive a NATO certificate for the LOG-LG-36826 LOGFAS Movement Execution and Coordination Operator (LOGFAS EVE Operator) as this is part of this course. \nThe course will take for 8 days. \nDescription:\nInformation is the key to any modern coalition operation. Therefore there is a clear requirement to provide coherent\, useful information to logistic planners on available logistic capability in a multi-national environment. Operators at NCS/NFS as well as in nations are required to be able to manage logistics information by using LOGFAS suite of tools. \nAim: \nThe course is designed to teach the required skills to capable to analyze Detailed Deployment Plan/Detailed Redepolyment Plan (DDP/DRP) using EVE module of LOGFAS with details and information on how this data can be applied for the Analysis and Planning of Movements and Transportation using the functionality provided by the LOGFAS EVE module. The Course is NATO certified and will meet all Requirements written in ETOC Course description ETOC LOG-LG-36826. \nThe purpose of the course is to provide military and civilian personnel at NATO\, NATO Nation\, Partner Nations and Organisations Headquarters with fundamental knowledge of LOGFAS system a way how to monitor and/or control the movements flow\, prioritise and deconflict the flow of the forces to\, in and out the theatre and to pass the information to all interested parties. \nProgramme for LOGFAS EVE course \nVenue of the event: \nThe Course will be held at the following location: \nName: Military Airbase Eindhoven\, MCCE\nAddress: Flight Forum\nPostcode: 5600 RA\nLocation: Eindhoven\nCountry: The Netherlands \nBuilding No: 551 \nClass Room: Amsterdam \n  \nAttendance: \nYou can sign up via Conference Manager using via the following: SIGN UP LINK \nPlease be kindly informed\, that the registration must be completed no later than 19 April 2026. \nFor the host nation to plan appropriately\, you will be asked to provide certain information during the registration process. \nAccommodation \nThe MCCE recommends the following accomodations for participants: \nSandton Eindhoven Centre\,\nStratumsedijk 23D\,\n5611 NA Eindhoven\nTel.:     +31 40 212 13 30 \n  \n3BE Back Packers Bed & Breakfast Eindhoven\,\nStratumsedijk 31\,\n5611 NA Eindhoven\nTel.:     +31 40 212 04 16 \nPark Plaza Eindhoven\,\nGelddropseweg 17\,\n5611 SC Eindhoven\nTel.:     +31 40 214 65 00 \nWinston Bistro Bar Bed & Breakfast Eindhoven\,\nStratumseind 93\,\n5611 ER Eindhoven\nTel.:     +31 40 209 79 79 \nTransportation: \nThe PICK UP point will be at Sandton Eindhoven Centre parking lot. The MCCE will organize the transport for students to the Air Base and back. The bus will leave from the hotel parking lot 07:30 every morning and come back at the end of the day. \nAccording to the regulations of the Dutch army\, the bus will not run if less than 10 people register for it. In this case\, please help each other with the journey. Or take bus No. 400 to the Airport. The bus leaves from the Central Railway Station to the Airport and approx. 10 minutes walk to the Airbase. \nBUS Schedule No. 400 \nTransportation to and from Eindhoven\, The Netherlands\, as well as to and from the hotel to the airport is your individual responsibility. \nDress Code: \nMilitary uniform for military personnel (BDU)\, jacket and tie for civilian participants. \nNote:  \nDue to the large number of applicants\, it is necessary to limit the number of participants from one nation to a maximum of 3 PAX. \nThere are ony 15 seats for the course\, so we will have to refuse registrations after the 15 spots are filled\, unfortunately. \nThe course takes place in a barracks managed by the Dutch Army\, so we will send an e-mail to those who successfully apply for the course\, at a later date to request personal information in order to access the barracks. \nIdentification: \nAll attendees have to carry national passports or IDs. \nNote:  \nThe course takes place in a barracks managed by the Dutch Army\, so we will send an e-mail to those who successfully apply for the course\, at a later date to request personal information in order to access the barracks. \nClassification: \nOverall classification is NATO/PfP UNCLASSIFIED. \nLanguage: \nTraining will be conducted in English; in accordance with NATO STANAG SLP 6001\, a minimum level of 2222 is required. \nBest Regards\, \nMCCE P&P Cell \nTel.:     +31 40 206 6073\nEmail: plans@mcce-mil.com \nEindhoven Airbase\nP.O.Box  90102\n5600 RA Eindhoven \n \n 
URL:https://mcce-mil.org/event/mcce-logfas-eve-course-for-ex-colo26/
LOCATION:MCCE\, Flight Forum 1550\, Eindhoven\, Military Airbase\, 5600 RA\, Netherlands
CATEGORIES:course
ATTACH;FMTTYPE=image/jpeg:https://mcce-mil.org/wp-content/uploads/2025/07/MLCCMCCE-LOGO-2.jpg
ORGANIZER;CN="MCCE Projects & Planning Cell":MAILTO:plans@mcce-mil.com
END:VEVENT
END:VCALENDAR