BEGIN:VCALENDAR
VERSION:2.0
PRODID:-//Movement Coordination Centre Europe - ECPv6.15.20//NONSGML v1.0//EN
CALSCALE:GREGORIAN
METHOD:PUBLISH
X-ORIGINAL-URL:https://mcce-mil.org
X-WR-CALDESC:Events for Movement Coordination Centre Europe
REFRESH-INTERVAL;VALUE=DURATION:PT1H
X-Robots-Tag:noindex
X-PUBLISHED-TTL:PT1H
BEGIN:VTIMEZONE
TZID:Europe/Amsterdam
BEGIN:DAYLIGHT
TZOFFSETFROM:+0100
TZOFFSETTO:+0200
TZNAME:CEST
DTSTART:20250330T010000
END:DAYLIGHT
BEGIN:STANDARD
TZOFFSETFROM:+0200
TZOFFSETTO:+0100
TZNAME:CET
DTSTART:20251026T010000
END:STANDARD
BEGIN:DAYLIGHT
TZOFFSETFROM:+0100
TZOFFSETTO:+0200
TZNAME:CEST
DTSTART:20260329T010000
END:DAYLIGHT
BEGIN:STANDARD
TZOFFSETFROM:+0200
TZOFFSETTO:+0100
TZNAME:CET
DTSTART:20261025T010000
END:STANDARD
BEGIN:DAYLIGHT
TZOFFSETFROM:+0100
TZOFFSETTO:+0200
TZNAME:CEST
DTSTART:20270328T010000
END:DAYLIGHT
BEGIN:STANDARD
TZOFFSETFROM:+0200
TZOFFSETTO:+0100
TZNAME:CET
DTSTART:20271031T010000
END:STANDARD
END:VTIMEZONE
BEGIN:VEVENT
DTSTART;TZID=Europe/Amsterdam:20260727T080000
DTEND;TZID=Europe/Amsterdam:20260731T120000
DTSTAMP:20260422T065310
CREATED:20250826T133227Z
LAST-MODIFIED:20260408T115410Z
UID:3457-1785139200-1785499200@mcce-mil.org
SUMMARY:2nd MCCE LOGFAS Academics for Ex CoLo26
DESCRIPTION:The 2nd MCCE LOGFAS Academics course\nfor Exercise Connected Logistician-2026 (Ex CoLo26)\nfrom 27 July to 31 July 2026 in Eindhoven\nLadies and Gentlemen\,\nBackground \nThe 2nd LOGFAS Academics course for Exercise Connected Logistician-2026 (Ex CoLo26) will take place in Eindhoven (Military Aibase Barrack) from 27 July to   31 July 2026. \nThe training will incorporate Logistic planning and coordination on the Strategic\, Operational\, Tactical level\, Movement and Sustainment using LDM\, EVE\, ADAMS\, CORSOM modules of LOGFAS. The focus will be using LOGFAS for deployment planning\, execution and sustainment of forces including Logistics Reporting. \nThe Movement Coordination Centre Europe (MCCE)\, Eindhoven\, Netherlands is organizing LOGFAS Movement and Transportation Battle Staff Training(M&T BST) Functional System Training. The training attendees will receive a certificate for the LOG-LG-36828 LOGFAS Movement and Transportation Battle Staff Training (M&T BST) as this is part of this training. \nThe LOGFAS Academics will take for 5 days. \nDescription:\nInformation is the key to any modern coalition operation. Therefore there is a clear requirement to provide coherent\, useful information to logistic planners on available logistic capability in a multi-national environment. Operators at NCS/NFS as well as in nations are required to be able to manage logistics information by using LOGFAS suite of tools. \nAim: \nEven if there is personnel available that did some courses of LOGFAS modules they often lack the ability to combine the knowledge and the skills of using LOGFAS as the one tool to support strategic deployment/redeployment and RSOM(I)/RMSD planning. \nThe big differences are that no certificates for LOGFAS modules are issued\, no full modules are taught and the purpose is not to give a complete overview on LOGFAS but to provide a toolbox for the tasks mentioned above. \nThe MCCE Academics provide a scenario-based training that covers all those activities in order to be fit for exercises and missions. \nProgramme \nModule I. is to introduce the system\, teach the steps in LOGFAS and make the students familiar with the processes\, the second one is actually a scenario based training course where the participants are invited to do the planning using LOGFAS on their own. Doing the planning does not mean that they are taught in the planning as at the NATO School Oberammergau. They get the results out of that planning process and do the detailed transport planning with LOGFAS. \nRough overview about the content of Module I: \n\nAdministration and System overview\nGeographical Manager bases for the further training\nLDM up to the creation of force profile and holdings\nADAMS up to the creation of a DDP including deconfliction and merging to a MNDDP\nEVE up to creating a FEP out of the MNDDP\nCORSOM RSOM/RMSD\n\nHere you will find the: Programme for LOGFAS Academics training \nFor the participation at Module II. the entire Module I. is required. \nModule II. builds up on the first one. The same scenario is used\, the process remains the same which now should be conducted by the participants as different parties in the process including presentations\, negotiations and deconfliction under supervision and guidance of the instructor. \nVenue of the event: \nThe Course will be held at the following location: \nName: Military Airbase Eindhoven\, MCCE\nAddress: Flight Forum\nPostcode: 5600 RA\nLocation: Eindhoven\nCountry: The Netherlands \nBuilding No: 551 \nClass Room: Amsterdam \nAttendance: \nYou can sign up via Conference Manager using via the following: SIGN UP LINK \nPlease be kindly informed\, that the registration must be completed no later than 27 June 2026. \nFor the host nation to plan appropriately\, you will be asked to provide certain information during the registration process. \nAccommodation \nThe MCCE recommends the following accomodations for participants: \nSandton Eindhoven Centre\, \nStratumsedijk 23D\,\n5611 NA Eindhoven\nTel.:     +31 40 212 13 30 \nIn the Sandton Eindhoven Centre\, we have created the block reservation with the following condition: \nThe rate that is applied is €128 per room\, per night\, excluding breakfast. And €144 per room\, per night\, including breakfast. \nThe rates have been increased in 2026 due to tax increase. \nBooking code: MCCE/LOGFAS-BST2 \nBooking Link: BOOKING Until: 29th June 2026. \n3BE Back Packers Bed & Breakfast Eindhoven\,\nStratumsedijk 31\,\n5611 NA Eindhoven\nTel.:     +31 40 212 04 16 \nPark Plaza Eindhoven\,\nGelddropseweg 17\,\n5611 SC Eindhoven\nTel.:     +31 40 214 65 00 \nWinston Bistro Bar Bed & Breakfast Eindhoven\,\nStratumseind 93\,\n5611 ER Eindhoven\nTel.:     +31 40 209 79 79 \nTransportation: \nThe PICK UP point will be at Sandton Eindhoven Centre parking lot. The MCCE will organize the transport for students to the Air Base and back. The bus will leave from the hotel parking lot 07:30 every morning and come back at the end of the day. \nAccording to the regulations of the Dutch army\, the bus will not run if less than 10 people register for it. In this case\, please help each other with the journey. Or take bus No. 400 to the Airport. The bus leaves from the Central Railway Station to the Airport and approx. 10 minutes walk to the Airbase. \nBUS Schedule No. 400 \nTransportation to and from Eindhoven\, The Netherlands\, as well as to and from the hotel to the airport is your individual responsibility. \nDress Code: \nMilitary uniform for military personnel (BDU)\, jacket and tie for civilian participants. \nNote:  \nDue to the large number of applicants\, it is necessary to limit the number of participants from one nation to a maximum of 3 PAX. \nThere are only 15 seats for the course\, so we will have to refuse registrations after the 15 spots are filled\, unfortunately. \nThe course takes place in a barracks managed by the Dutch Army\, so we will send an e-mail to those who successfully apply for the course\, at a later date to request personal information in order to access the barracks. \nIdentification: \nAll attendees have to carry national passports or IDs. \nNote:  \nThe course takes place in a barracks managed by the Dutch Army\, so we will send an e-mail to those who successfully apply for the course\, at a later date to request personal information in order to access the barracks. \nClassification: \nOverall classification is NATO/PfP UNCLASSIFIED. \nLanguage: \nTraining will be conducted in English; in accordance with NATO STANAG SLP 6001\, a minimum level of 2222 is required. \nBest Regards\, \nMCCE P&P Cell \nTel.:     +31 40 206 6073\nEmail: plans@mcce-mil.com \nEindhoven Airbase\nP.O.Box  90102\n5600 RA Eindhoven
URL:https://mcce-mil.org/event/2nd-mcce-logfas-academics-for-ex-colo26/
LOCATION:MCCE\, Flight Forum 1550\, Eindhoven\, Military Airbase\, 5600 RA\, Netherlands
CATEGORIES:course
ATTACH;FMTTYPE=image/jpeg:https://mcce-mil.org/wp-content/uploads/2025/07/MLCCMCCE-LOGO-2.jpg
ORGANIZER;CN="MCCE Projects & Planning Cell":MAILTO:plans@mcce-mil.com
END:VEVENT
END:VCALENDAR