BEGIN:VCALENDAR
VERSION:2.0
PRODID:-//Movement Coordination Centre Europe - ECPv6.15.20//NONSGML v1.0//EN
CALSCALE:GREGORIAN
METHOD:PUBLISH
X-WR-CALNAME:Movement Coordination Centre Europe
X-ORIGINAL-URL:https://mcce-mil.org
X-WR-CALDESC:Events for Movement Coordination Centre Europe
REFRESH-INTERVAL;VALUE=DURATION:PT1H
X-Robots-Tag:noindex
X-PUBLISHED-TTL:PT1H
BEGIN:VTIMEZONE
TZID:Europe/Amsterdam
BEGIN:DAYLIGHT
TZOFFSETFROM:+0100
TZOFFSETTO:+0200
TZNAME:CEST
DTSTART:20240331T010000
END:DAYLIGHT
BEGIN:STANDARD
TZOFFSETFROM:+0200
TZOFFSETTO:+0100
TZNAME:CET
DTSTART:20241027T010000
END:STANDARD
BEGIN:DAYLIGHT
TZOFFSETFROM:+0100
TZOFFSETTO:+0200
TZNAME:CEST
DTSTART:20250330T010000
END:DAYLIGHT
BEGIN:STANDARD
TZOFFSETFROM:+0200
TZOFFSETTO:+0100
TZNAME:CET
DTSTART:20251026T010000
END:STANDARD
BEGIN:DAYLIGHT
TZOFFSETFROM:+0100
TZOFFSETTO:+0200
TZNAME:CEST
DTSTART:20260329T010000
END:DAYLIGHT
BEGIN:STANDARD
TZOFFSETFROM:+0200
TZOFFSETTO:+0100
TZNAME:CET
DTSTART:20261025T010000
END:STANDARD
END:VTIMEZONE
BEGIN:VEVENT
DTSTART;VALUE=DATE:20250908
DTEND;VALUE=DATE:20250913
DTSTAMP:20260422T053656
CREATED:20250807T070039Z
LAST-MODIFIED:20250807T130958Z
UID:2634-1757289600-1757721599@mcce-mil.org
SUMMARY:FAWG / SAWG 8 -12 Sept 25 Berlin
DESCRIPTION:Dear Working Board Members\, \nOn behalf of the host nation\, Australia\, you are kindly invited to the Combined Future Adaptation Working Group (FAWG) and Standing Advisory Working Group (SAWG) meetings in Berlin\, Germany. \nThe FAWG will be held 8 – 9 of September 2025. The SAWG will follow starting the next day 10 – 12 September 2025. \nMeeting venue \nThe meetings will be held at the following venue: \nAustralian Embassy \nWallstraße 76-79\, 10179 Berlin\, Germany \nHotels \nThere is no sponsored hotel\, some suggestions in the area are: \nPark Plaza Wallstreet Berlin Mitte \nLiving Hotel Großer Kurfürst \nart’otel Berlin Mitte\, Powered by Radisson Hotels \nRegistration \nPlease register here: \nRegister for FAWG / SAWG \, 8 – 12 Sept 2025\nFor the host nation to plan appropriately\, you will be asked to provide certain information during the registration process. \nIf you have any questions\, please contact  XO MCCE at xo@mcce-mil.com \nConference Fee: \nAt this time there is no conference fee for this event\, but one may be required\, details to follow in a later e-mail. \nSocial Activities: \nThe Icebreaker will be at 1800 8 Sept at Australian Embassy Berlin. \nGuided Berlin Walk\, around 1700 9 Sept. \nDinner is the evening of 11 Sept at Maximilians Berlin\, within walking distance of the embassy. \nTransportation \nTransportation to Berlin as well as to and from the hotel to the airport is your individual responsibility. \nBest regards\, \nMovement Coordination Centre Europe \n  \n  \n  \n 
URL:https://mcce-mil.org/event/fawg-sept-2025/
LOCATION:Nordic Light Hotel\, VASAPLAN 7 111 20\, Stockholm\, Sweden
CATEGORIES:Conference
ATTACH;FMTTYPE=image/jpeg:https://mcce-mil.org/wp-content/uploads/2025/08/Berlin.jpg
ORGANIZER;CN="MCCE XO":MAILTO:xo@mcce-mil.com
END:VEVENT
BEGIN:VEVENT
DTSTART;TZID=Europe/Amsterdam:20250904T130000
DTEND;TZID=Europe/Amsterdam:20250904T170000
DTSTAMP:20260422T053656
CREATED:20250623T050958Z
LAST-MODIFIED:20250707T094943Z
UID:3155-1756990800-1757005200@mcce-mil.org
SUMMARY:COC 04-09-2025
DESCRIPTION:The Director of the Movement Coordination Centre Europe (MCCE) \ninvites you to the change of command ceremony and reception. \nWith this ceremony the command of the Movement Coordination Centre Europe will be transferred from \nColonel (OF-5) Gioacchino (Jack) Cassarà \nto \nColonel (OF-5) Erik van de Ven \nThe event will take place on September 4th\, 2025\, on the Airbase Eindhoven. \nCeremony starts at 13:30 \nSoldiers: Service Dress Uniform (jacket\, tie\, ribbons)\nCivilians: Business attire \nEindhoven Airbase\, MCCE building 551\nFlightforum 1550\, 5657EZ Eindhoven \nSchedule:  \n12:00-13:00 Arrival of the guests \n13:00 Guests take their seats \n13:30 Ceremony starts \n14:30 Reception \n15:00 BBQ at MCCE \n17:00 End of the event \nREGISTER
URL:https://mcce-mil.org/event/coc-04-09-2025/
LOCATION:MCCE\, Flight Forum 1550\, Eindhoven\, Military Airbase\, 5600 RA\, Netherlands
CATEGORIES:Other
ATTACH;FMTTYPE=image/jpeg:https://mcce-mil.org/wp-content/uploads/2025/06/coc-klein.jpg
ORGANIZER;CN="Admin MCCE":MAILTO:administration@mcce-mil.com
END:VEVENT
END:VCALENDAR