BEGIN:VCALENDAR
VERSION:2.0
PRODID:-//Movement Coordination Centre Europe - ECPv6.15.20//NONSGML v1.0//EN
CALSCALE:GREGORIAN
METHOD:PUBLISH
X-ORIGINAL-URL:https://mcce-mil.org
X-WR-CALDESC:Events for Movement Coordination Centre Europe
REFRESH-INTERVAL;VALUE=DURATION:PT1H
X-Robots-Tag:noindex
X-PUBLISHED-TTL:PT1H
BEGIN:VTIMEZONE
TZID:Europe/Amsterdam
BEGIN:DAYLIGHT
TZOFFSETFROM:+0100
TZOFFSETTO:+0200
TZNAME:CEST
DTSTART:20250330T010000
END:DAYLIGHT
BEGIN:STANDARD
TZOFFSETFROM:+0200
TZOFFSETTO:+0100
TZNAME:CET
DTSTART:20251026T010000
END:STANDARD
BEGIN:DAYLIGHT
TZOFFSETFROM:+0100
TZOFFSETTO:+0200
TZNAME:CEST
DTSTART:20260329T010000
END:DAYLIGHT
BEGIN:STANDARD
TZOFFSETFROM:+0200
TZOFFSETTO:+0100
TZNAME:CET
DTSTART:20261025T010000
END:STANDARD
BEGIN:DAYLIGHT
TZOFFSETFROM:+0100
TZOFFSETTO:+0200
TZNAME:CEST
DTSTART:20270328T010000
END:DAYLIGHT
BEGIN:STANDARD
TZOFFSETFROM:+0200
TZOFFSETTO:+0100
TZNAME:CET
DTSTART:20271031T010000
END:STANDARD
END:VTIMEZONE
BEGIN:VEVENT
DTSTART;VALUE=DATE:20260215
DTEND;VALUE=DATE:20260220
DTSTAMP:20260422T032403
CREATED:20260122T081831Z
LAST-MODIFIED:20260122T081831Z
UID:4579-1771113600-1771545599@mcce-mil.org
SUMMARY:FAWG / SAWG 16 - 19 Amsterdam\, NLD
DESCRIPTION:Dear Board Members\, \nOn behalf of the host nation\, MCCE\, you are kindly invited to the Combined Future Adaptation Working Group (FAWG) and Standing Advisory Working Group (SAWG) meetings in Amsterdam\, Netherlands. \nThe FAWG will be held 16 – 17 of Feb 2026. The SAWG will follow starting the next day 18 – 19 Feb 2026. \nMeeting venue \nThe meetings will be held at the following venue: \nNaval Base Amsterdam \nKattenburgerstraat 7 1018 JA \nIn room “Schelde” \nBuilding Map \nNaval Base Map \nHotels \nThe recommended hotel is: \n\n\n\n\n\n\nPension Homeland\nKattenburgerstraat 5\n1018 JA Amsterdam\nNetherlands\n+3120 723 2550\n\n\n\n\n\n\n\n\n\nhttps://www.pensionhomeland.com/nl/\n\n\n  \nRegistration \nPlease register here: \nRegister for FAWG / SAWG \, 16 – 19 Feb 2026\nYou can register for one or both events. \nFor the host nation to plan appropriately\, you will be asked to provide certain information during the registration process. \nIf you have any questions\, please contact  XO MCCE at xo@mcce-mil.com \nConference Fee: \nThere is no conference fee for this event. \nSocial Activities: \nThe Icebreaker\, hosted by MCCE\, will be Sunday evening (15 Feb) at 1900\, location to be determined. \nThere will not be a hosted dinner\, but a group reservation will be made for one or two of the evenings. \nTransportation \nTransportation to Amsterdam as well as to and from the hotel to the airport is your individual responsibility. \nBest regards\, \nMovement Coordination Centre Europe \n  \n  \n  \n 
URL:https://mcce-mil.org/event/fawg-sawg-16-19-amsterdam-nld/
LOCATION:Naval Base Amsterdam\, Kattenburgerstraat 7 1018 JA\, Amsterdam\, 1018 JA\, Netherlands
CATEGORIES:Conference
ATTACH;FMTTYPE=image/jpeg:https://mcce-mil.org/wp-content/uploads/2026/01/Amsterdam.jpg
ORGANIZER;CN="MCCE XO":MAILTO:xo@mcce-mil.com
END:VEVENT
END:VCALENDAR